BEGIN:VCALENDAR
VERSION:2.0
PRODID:-//PALESTRA JUDO SAKURA - ECPv6.15.18//NONSGML v1.0//EN
CALSCALE:GREGORIAN
METHOD:PUBLISH
X-ORIGINAL-URL:https://www.judosakura.it
X-WR-CALDESC:Eventi per PALESTRA JUDO SAKURA
REFRESH-INTERVAL;VALUE=DURATION:PT1H
X-Robots-Tag:noindex
X-PUBLISHED-TTL:PT1H
BEGIN:VTIMEZONE
TZID:Europe/Rome
BEGIN:DAYLIGHT
TZOFFSETFROM:+0100
TZOFFSETTO:+0200
TZNAME:CEST
DTSTART:20230326T010000
END:DAYLIGHT
BEGIN:STANDARD
TZOFFSETFROM:+0200
TZOFFSETTO:+0100
TZNAME:CET
DTSTART:20231029T010000
END:STANDARD
BEGIN:DAYLIGHT
TZOFFSETFROM:+0100
TZOFFSETTO:+0200
TZNAME:CEST
DTSTART:20240331T010000
END:DAYLIGHT
BEGIN:STANDARD
TZOFFSETFROM:+0200
TZOFFSETTO:+0100
TZNAME:CET
DTSTART:20241027T010000
END:STANDARD
BEGIN:DAYLIGHT
TZOFFSETFROM:+0100
TZOFFSETTO:+0200
TZNAME:CEST
DTSTART:20250330T010000
END:DAYLIGHT
BEGIN:STANDARD
TZOFFSETFROM:+0200
TZOFFSETTO:+0100
TZNAME:CET
DTSTART:20251026T010000
END:STANDARD
END:VTIMEZONE
BEGIN:VEVENT
DTSTART;VALUE=DATE:20240903
DTEND;VALUE=DATE:20240904
DTSTAMP:20260423T125320
CREATED:20240623T171849Z
LAST-MODIFIED:20240623T172009Z
UID:1664-1725321600-1725407999@www.judosakura.it
SUMMARY:Ripresa corsi per adulti
DESCRIPTION:
URL:https://www.judosakura.it/event/ripresa-corsi-per-adulti/
LOCATION:Palestra Judo Sakura ASD\, Piazza 1 Maggio\, Sesto San Giovanni - Milano\, Italia
ATTACH;FMTTYPE=image/jpeg:https://www.judosakura.it/wp-content/uploads/Logo-colori-palestra-sakura-100X100-e1676830549370.jpg
END:VEVENT
BEGIN:VEVENT
DTSTART;VALUE=DATE:20240917
DTEND;VALUE=DATE:20240918
DTSTAMP:20260423T125320
CREATED:20240623T171745Z
LAST-MODIFIED:20240623T171930Z
UID:1662-1726531200-1726617599@www.judosakura.it
SUMMARY:Ripresa corsi per bambini e ragazzi
DESCRIPTION:
URL:https://www.judosakura.it/event/ripresa-corsi-per-bambini-e-ragazzi/
LOCATION:Palestra Judo Sakura ASD\, Piazza 1 Maggio\, Sesto San Giovanni - Milano\, Italia
ATTACH;FMTTYPE=image/jpeg:https://www.judosakura.it/wp-content/uploads/Logo-colori-palestra-sakura-100X100-e1676830549370.jpg
END:VEVENT
BEGIN:VEVENT
DTSTART;VALUE=DATE:20240921
DTEND;VALUE=DATE:20240922
DTSTAMP:20260423T125320
CREATED:20240214T170506Z
LAST-MODIFIED:20240821T173851Z
UID:1575-1726876800-1726963199@www.judosakura.it
SUMMARY:Gran Prix Master 2024 Liguria
DESCRIPTION:3^ Prova Nazionale 2024
URL:https://www.judosakura.it/event/gran-prix-veterani-liguria/
LOCATION:Palazzetto dello sport di Spotorno\, Via Verdi\, Spotorno (Sv)
ATTACH;FMTTYPE=image/jpeg:https://www.judosakura.it/wp-content/uploads/2021/06/logo_fijlkam1-e1640802448642.jpeg
END:VEVENT
END:VCALENDAR