BEGIN:VCALENDAR
VERSION:2.0
PRODID:-//PALESTRA JUDO SAKURA - ECPv6.15.18//NONSGML v1.0//EN
CALSCALE:GREGORIAN
METHOD:PUBLISH
X-WR-CALNAME:PALESTRA JUDO SAKURA
X-ORIGINAL-URL:https://www.judosakura.it
X-WR-CALDESC:Eventi per PALESTRA JUDO SAKURA
REFRESH-INTERVAL;VALUE=DURATION:PT1H
X-Robots-Tag:noindex
X-PUBLISHED-TTL:PT1H
BEGIN:VTIMEZONE
TZID:Europe/Rome
BEGIN:DAYLIGHT
TZOFFSETFROM:+0100
TZOFFSETTO:+0200
TZNAME:CEST
DTSTART:20230326T010000
END:DAYLIGHT
BEGIN:STANDARD
TZOFFSETFROM:+0200
TZOFFSETTO:+0100
TZNAME:CET
DTSTART:20231029T010000
END:STANDARD
BEGIN:DAYLIGHT
TZOFFSETFROM:+0100
TZOFFSETTO:+0200
TZNAME:CEST
DTSTART:20240331T010000
END:DAYLIGHT
BEGIN:STANDARD
TZOFFSETFROM:+0200
TZOFFSETTO:+0100
TZNAME:CET
DTSTART:20241027T010000
END:STANDARD
BEGIN:DAYLIGHT
TZOFFSETFROM:+0100
TZOFFSETTO:+0200
TZNAME:CEST
DTSTART:20250330T010000
END:DAYLIGHT
BEGIN:STANDARD
TZOFFSETFROM:+0200
TZOFFSETTO:+0100
TZNAME:CET
DTSTART:20251026T010000
END:STANDARD
END:VTIMEZONE
BEGIN:VEVENT
DTSTART;VALUE=DATE:20240504
DTEND;VALUE=DATE:20240505
DTSTAMP:20260423T193106
CREATED:20240211T182423Z
LAST-MODIFIED:20240211T183449Z
UID:1555-1714780800-1714867199@www.judosakura.it
SUMMARY:7^ prova Trofeo Piccoli Samurai 2024
DESCRIPTION:
URL:https://www.judosakura.it/event/6-prova-trofeo-piccoli-samurai-2024/
LOCATION:Segrate\, Palazzetto dello sport - Via XXV Aprile\, Segrate
ATTACH;FMTTYPE=image/gif:https://www.judosakura.it/wp-content/uploads/judoclubsegrate-e1651077650547.gif
END:VEVENT
BEGIN:VEVENT
DTSTART;VALUE=DATE:20240505
DTEND;VALUE=DATE:20240506
DTSTAMP:20260423T193106
CREATED:20230925T161224Z
LAST-MODIFIED:20240211T185244Z
UID:1526-1714867200-1714953599@www.judosakura.it
SUMMARY:18° Trofeo Mon Club
DESCRIPTION:EsoA + EsoB + Cad + Ju + Se
URL:https://www.judosakura.it/event/18-trofeo-mon-club/
LOCATION:Palasport Rovello\, Largo dello Sport\, Rovello Porro (Co)
ATTACH;FMTTYPE=image/png:https://www.judosakura.it/wp-content/uploads/MON.png
END:VEVENT
BEGIN:VEVENT
DTSTART;VALUE=DATE:20240505
DTEND;VALUE=DATE:20240506
DTSTAMP:20260423T193106
CREATED:20240211T184041Z
LAST-MODIFIED:20240211T184041Z
UID:1564-1714867200-1714953599@www.judosakura.it
SUMMARY:Gran Prix Veterani Emilia Romagna
DESCRIPTION:2^ Prova Nazionale 2024
URL:https://www.judosakura.it/event/gran-prix-veterani-emilia-romagna/
LOCATION:Bologna\, Palestra Pallavicini\, via M. E. Lepido 194
ATTACH;FMTTYPE=image/jpeg:https://www.judosakura.it/wp-content/uploads/2021/06/logo_fijlkam1-e1640802448642.jpeg
END:VEVENT
BEGIN:VEVENT
DTSTART;VALUE=DATE:20240512
DTEND;VALUE=DATE:20240513
DTSTAMP:20260423T193106
CREATED:20240218T183111Z
LAST-MODIFIED:20240218T183226Z
UID:1592-1715472000-1715558399@www.judosakura.it
SUMMARY:XX Meeting giovanissimi - Qualificaz. trofeo CONI
DESCRIPTION:Bambini – Fanciulli – Ragazzi
URL:https://www.judosakura.it/event/xx-meeting-per-giovanissimi-qualificazioni-trofeo-coni/
LOCATION:Palasport Sarnico\, Via Donatori di Sangue\, Sarnico (Bg)
ATTACH;FMTTYPE=image/jpeg:https://www.judosakura.it/wp-content/uploads/2021/06/fijlkam_lombardia-e1676898174424.jpg
END:VEVENT
BEGIN:VEVENT
DTSTART;VALUE=DATE:20240526
DTEND;VALUE=DATE:20240527
DTSTAMP:20260423T193106
CREATED:20240218T182641Z
LAST-MODIFIED:20240218T182641Z
UID:1590-1716681600-1716767999@www.judosakura.it
SUMMARY:2° Midori 2024 – Meeting Preagonisti
DESCRIPTION:Bambini – Fanciulli – Ragazzi
URL:https://www.judosakura.it/event/2-midori-2024-meeting-preagonisti/
LOCATION:Forza e Costanza\, Centro Sportivo San Filippo - Via Luigi Bazoli\, 10\, Brescia
ATTACH;FMTTYPE=image/jpeg:https://www.judosakura.it/wp-content/uploads/2021/07/fijlkam_lombardia-e1707674560695.jpg
END:VEVENT
END:VCALENDAR