BEGIN:VCALENDAR
VERSION:2.0
PRODID:-//PALESTRA JUDO SAKURA - ECPv6.15.18//NONSGML v1.0//EN
CALSCALE:GREGORIAN
METHOD:PUBLISH
X-ORIGINAL-URL:https://www.judosakura.it
X-WR-CALDESC:Eventi per PALESTRA JUDO SAKURA
REFRESH-INTERVAL;VALUE=DURATION:PT1H
X-Robots-Tag:noindex
X-PUBLISHED-TTL:PT1H
BEGIN:VTIMEZONE
TZID:Europe/Rome
BEGIN:DAYLIGHT
TZOFFSETFROM:+0100
TZOFFSETTO:+0200
TZNAME:CEST
DTSTART:20230326T010000
END:DAYLIGHT
BEGIN:STANDARD
TZOFFSETFROM:+0200
TZOFFSETTO:+0100
TZNAME:CET
DTSTART:20231029T010000
END:STANDARD
BEGIN:DAYLIGHT
TZOFFSETFROM:+0100
TZOFFSETTO:+0200
TZNAME:CEST
DTSTART:20240331T010000
END:DAYLIGHT
BEGIN:STANDARD
TZOFFSETFROM:+0200
TZOFFSETTO:+0100
TZNAME:CET
DTSTART:20241027T010000
END:STANDARD
BEGIN:DAYLIGHT
TZOFFSETFROM:+0100
TZOFFSETTO:+0200
TZNAME:CEST
DTSTART:20250330T010000
END:DAYLIGHT
BEGIN:STANDARD
TZOFFSETFROM:+0200
TZOFFSETTO:+0100
TZNAME:CET
DTSTART:20251026T010000
END:STANDARD
END:VTIMEZONE
BEGIN:VEVENT
DTSTART;VALUE=DATE:20240407
DTEND;VALUE=DATE:20240408
DTSTAMP:20260423T210733
CREATED:20240211T183156Z
LAST-MODIFIED:20240214T165452Z
UID:1561-1712448000-1712534399@www.judosakura.it
SUMMARY:Finali Campionati Italiani Juniores A1
DESCRIPTION:
URL:https://www.judosakura.it/event/finali-campionati-italiani-femminili-juniores-a2/
LOCATION:Napoli
ATTACH;FMTTYPE=image/jpeg:https://www.judosakura.it/wp-content/uploads/2021/06/logo_fijlkam1-e1640802448642.jpeg
END:VEVENT
BEGIN:VEVENT
DTSTART;VALUE=DATE:20240407
DTEND;VALUE=DATE:20240408
DTSTAMP:20260423T210733
CREATED:20240218T182320Z
LAST-MODIFIED:20240218T182320Z
UID:1587-1712448000-1712534399@www.judosakura.it
SUMMARY:1° Midori 2024 - Meeting Preagonisti
DESCRIPTION:Bambini – Fanciulli – Ragazzi
URL:https://www.judosakura.it/event/1-midori-2024-meeting-preagonisti/
LOCATION:PalaBorsani\, Via Legnano 3\, Castellanza (Va)
ATTACH;FMTTYPE=image/jpeg:https://www.judosakura.it/wp-content/uploads/2021/06/fijlkam_lombardia-e1676898174424.jpg
END:VEVENT
BEGIN:VEVENT
DTSTART;VALUE=DATE:20240420
DTEND;VALUE=DATE:20240421
DTSTAMP:20260423T210733
CREATED:20240211T182541Z
LAST-MODIFIED:20240211T183630Z
UID:1557-1713571200-1713657599@www.judosakura.it
SUMMARY:6^ prova Trofeo Piccoli Samurai 2024
DESCRIPTION:
URL:https://www.judosakura.it/event/6-prova-trofeo-piccoli-samurai-2024-2/
LOCATION:Segrate\, Palazzetto dello sport - Via XXV Aprile\, Segrate
ATTACH;FMTTYPE=image/gif:https://www.judosakura.it/wp-content/uploads/judoclubsegrate-e1651077650547.gif
END:VEVENT
BEGIN:VEVENT
DTSTART;VALUE=DATE:20240421
DTEND;VALUE=DATE:20240422
DTSTAMP:20260423T210733
CREATED:20240218T181121Z
LAST-MODIFIED:20240218T181505Z
UID:1581-1713657600-1713743999@www.judosakura.it
SUMMARY:Gran Prix 1-2-3 dan  -  18 Trofeo Città di Como
DESCRIPTION:
URL:https://www.judosakura.it/event/gran-prix-1-2-3-dan/
LOCATION:Palazzetto dello sport di Gerenzano\, Via Inglesina 37\, Gerenzano (Va)
ATTACH;FMTTYPE=image/jpeg:https://www.judosakura.it/wp-content/uploads/SankakuComo.jpg
END:VEVENT
BEGIN:VEVENT
DTSTART;VALUE=DATE:20240427
DTEND;VALUE=DATE:20240428
DTSTAMP:20260423T210733
CREATED:20240218T183444Z
LAST-MODIFIED:20240218T183444Z
UID:1598-1714176000-1714262399@www.judosakura.it
SUMMARY:Qualificazioni Campionato Italiano A2 Esordienti B
DESCRIPTION:
URL:https://www.judosakura.it/event/qualificazioni-campionato-italiano-a2-esordienti-b/
LOCATION:Palalovato\, Via Roma 2\, Gorle (Bg)
ATTACH;FMTTYPE=image/jpeg:https://www.judosakura.it/wp-content/uploads/2021/06/fijlkam_lombardia-e1676898174424.jpg
END:VEVENT
BEGIN:VEVENT
DTSTART;VALUE=DATE:20240428
DTEND;VALUE=DATE:20240429
DTSTAMP:20260423T210733
CREATED:20240218T183727Z
LAST-MODIFIED:20240218T183727Z
UID:1600-1714262400-1714348799@www.judosakura.it
SUMMARY:Judo Youth League U18
DESCRIPTION:Cadetti Gi / Ar  +  Cadetti Ve / Bl / Ma
URL:https://www.judosakura.it/event/judo-youth-league-u18/
LOCATION:Palalovato\, Via Roma 2\, Gorle (Bg)
ATTACH;FMTTYPE=image/jpeg:https://www.judosakura.it/wp-content/uploads/2021/07/fijlkam_lombardia-e1707674560695.jpg
END:VEVENT
END:VCALENDAR