BEGIN:VCALENDAR
VERSION:2.0
PRODID:-//PALESTRA JUDO SAKURA - ECPv6.15.18//NONSGML v1.0//EN
CALSCALE:GREGORIAN
METHOD:PUBLISH
X-WR-CALNAME:PALESTRA JUDO SAKURA
X-ORIGINAL-URL:https://www.judosakura.it
X-WR-CALDESC:Eventi per PALESTRA JUDO SAKURA
REFRESH-INTERVAL;VALUE=DURATION:PT1H
X-Robots-Tag:noindex
X-PUBLISHED-TTL:PT1H
BEGIN:VTIMEZONE
TZID:Europe/Rome
BEGIN:DAYLIGHT
TZOFFSETFROM:+0100
TZOFFSETTO:+0200
TZNAME:CEST
DTSTART:20220327T010000
END:DAYLIGHT
BEGIN:STANDARD
TZOFFSETFROM:+0200
TZOFFSETTO:+0100
TZNAME:CET
DTSTART:20221030T010000
END:STANDARD
BEGIN:DAYLIGHT
TZOFFSETFROM:+0100
TZOFFSETTO:+0200
TZNAME:CEST
DTSTART:20230326T010000
END:DAYLIGHT
BEGIN:STANDARD
TZOFFSETFROM:+0200
TZOFFSETTO:+0100
TZNAME:CET
DTSTART:20231029T010000
END:STANDARD
BEGIN:DAYLIGHT
TZOFFSETFROM:+0100
TZOFFSETTO:+0200
TZNAME:CEST
DTSTART:20240331T010000
END:DAYLIGHT
BEGIN:STANDARD
TZOFFSETFROM:+0200
TZOFFSETTO:+0100
TZNAME:CET
DTSTART:20241027T010000
END:STANDARD
END:VTIMEZONE
BEGIN:VEVENT
DTSTART;VALUE=DATE:20231125
DTEND;VALUE=DATE:20231126
DTSTAMP:20260425T155803
CREATED:20230921T102136Z
LAST-MODIFIED:20230921T102136Z
UID:1515-1700870400-1700956799@www.judosakura.it
SUMMARY:2^ prova Trofeo Piccoli Samurai 2024
DESCRIPTION:
URL:https://www.judosakura.it/event/2-prova-trofeo-piccoli-samurai-2024/
LOCATION:Segrate\, Palazzetto dello sport - Via XXV Aprile\, Segrate
ATTACH;FMTTYPE=image/gif:https://www.judosakura.it/wp-content/uploads/judoclubsegrate-e1651077650547.gif
END:VEVENT
BEGIN:VEVENT
DTSTART;VALUE=DATE:20231125
DTEND;VALUE=DATE:20231126
DTSTAMP:20260425T155803
CREATED:20230921T103134Z
LAST-MODIFIED:20230921T104038Z
UID:1518-1700870400-1700956799@www.judosakura.it
SUMMARY:Campionato Nazionale di judo ENDAS 2023
DESCRIPTION:Juniores / Seniores
URL:https://www.judosakura.it/event/campionato-nazionale-di-judo-endas-2023/
LOCATION:Segrate\, Palazzetto dello sport - Via XXV Aprile\, Segrate
ATTACH;FMTTYPE=image/jpeg:https://www.judosakura.it/wp-content/uploads/Endas.jpg
END:VEVENT
BEGIN:VEVENT
DTSTART;VALUE=DATE:20231126
DTEND;VALUE=DATE:20231127
DTSTAMP:20260425T155803
CREATED:20230219T184620Z
LAST-MODIFIED:20230219T184621Z
UID:1457-1700956800-1701043199@www.judosakura.it
SUMMARY:Campionato Italiano Master 2023
DESCRIPTION:
URL:https://www.judosakura.it/event/campionato-italiano-master-2023/
LOCATION:Follonica (Gr)\, Palagolfo - Via Raffaello Sanzio
ATTACH;FMTTYPE=image/jpeg:https://www.judosakura.it/wp-content/uploads/2021/06/logo_fijlkam1-e1640802448642.jpeg
END:VEVENT
BEGIN:VEVENT
DTSTART;VALUE=DATE:20231126
DTEND;VALUE=DATE:20231127
DTSTAMP:20260425T155803
CREATED:20230921T103426Z
LAST-MODIFIED:20230921T103931Z
UID:1522-1700956800-1701043199@www.judosakura.it
SUMMARY:Campionato Nazionale di judo ENDAS 2023
DESCRIPTION:Esordienti / Cadetti
URL:https://www.judosakura.it/event/campionato-nazionale-di-judo-endas-2023-2/
LOCATION:Segrate\, Palazzetto dello sport - Via XXV Aprile\, Segrate
ATTACH;FMTTYPE=image/jpeg:https://www.judosakura.it/wp-content/uploads/Endas.jpg
END:VEVENT
END:VCALENDAR