BEGIN:VCALENDAR
VERSION:2.0
PRODID:-//PALESTRA JUDO SAKURA - ECPv6.15.18//NONSGML v1.0//EN
CALSCALE:GREGORIAN
METHOD:PUBLISH
X-WR-CALNAME:PALESTRA JUDO SAKURA
X-ORIGINAL-URL:https://www.judosakura.it
X-WR-CALDESC:Eventi per PALESTRA JUDO SAKURA
REFRESH-INTERVAL;VALUE=DURATION:PT1H
X-Robots-Tag:noindex
X-PUBLISHED-TTL:PT1H
BEGIN:VTIMEZONE
TZID:Europe/Rome
BEGIN:DAYLIGHT
TZOFFSETFROM:+0100
TZOFFSETTO:+0200
TZNAME:CEST
DTSTART:20220327T010000
END:DAYLIGHT
BEGIN:STANDARD
TZOFFSETFROM:+0200
TZOFFSETTO:+0100
TZNAME:CET
DTSTART:20221030T010000
END:STANDARD
BEGIN:DAYLIGHT
TZOFFSETFROM:+0100
TZOFFSETTO:+0200
TZNAME:CEST
DTSTART:20230326T010000
END:DAYLIGHT
BEGIN:STANDARD
TZOFFSETFROM:+0200
TZOFFSETTO:+0100
TZNAME:CET
DTSTART:20231029T010000
END:STANDARD
BEGIN:DAYLIGHT
TZOFFSETFROM:+0100
TZOFFSETTO:+0200
TZNAME:CEST
DTSTART:20240331T010000
END:DAYLIGHT
BEGIN:STANDARD
TZOFFSETFROM:+0200
TZOFFSETTO:+0100
TZNAME:CET
DTSTART:20241027T010000
END:STANDARD
END:VTIMEZONE
BEGIN:VEVENT
DTSTART;VALUE=DATE:20230603
DTEND;VALUE=DATE:20230604
DTSTAMP:20260425T235048
CREATED:20230220T130004Z
LAST-MODIFIED:20230220T130004Z
UID:1463-1685750400-1685836799@www.judosakura.it
SUMMARY:Gran Prix Cadetti - 33° Trofeo Città di Colombo
DESCRIPTION:
URL:https://www.judosakura.it/event/gran-prix-cadetti-33-trofeo-citta-di-colombo/
LOCATION:Genova – 105 Stadium\, Lungomare Canepa 155
ATTACH;FMTTYPE=image/jpeg:https://www.judosakura.it/wp-content/uploads/2021/06/logo_fijlkam1-e1640802448642.jpeg
END:VEVENT
BEGIN:VEVENT
DTSTART;TZID=Europe/Rome:20230608T080000
DTEND;TZID=Europe/Rome:20230611T170000
DTSTAMP:20260425T235048
CREATED:20230220T131246Z
LAST-MODIFIED:20230626T154625Z
UID:1470-1686211200-1686502800@www.judosakura.it
SUMMARY:EUROPEAN JUDO CHAMPIONSHIPS VETERANS
DESCRIPTION:Daniele : 3° classificato 66kg M2
URL:https://www.judosakura.it/event/european-judo-championships-veterans/
LOCATION:Podcetrtek (SLO)
ATTACH;FMTTYPE=image/png:https://www.judosakura.it/wp-content/uploads/EJU-Logo_blue.png
END:VEVENT
BEGIN:VEVENT
DTSTART;VALUE=DATE:20230611
DTEND;VALUE=DATE:20230612
DTSTAMP:20260425T235048
CREATED:20230220T130310Z
LAST-MODIFIED:20230220T130310Z
UID:1466-1686441600-1686527999@www.judosakura.it
SUMMARY:Gran Prix Regionale Cadetti
DESCRIPTION:
URL:https://www.judosakura.it/event/gran-prix-regionale-cadetti/
LOCATION:Besana Brianza (Mb)\, Palazzetto dello sport - Via De Gasperi
ATTACH;FMTTYPE=image/jpeg:https://www.judosakura.it/wp-content/uploads/2021/06/fijlkam_lombardia-e1676898174424.jpg
END:VEVENT
END:VCALENDAR