BEGIN:VCALENDAR
VERSION:2.0
PRODID:-//PALESTRA JUDO SAKURA - ECPv6.15.18//NONSGML v1.0//EN
CALSCALE:GREGORIAN
METHOD:PUBLISH
X-ORIGINAL-URL:https://www.judosakura.it
X-WR-CALDESC:Eventi per PALESTRA JUDO SAKURA
REFRESH-INTERVAL;VALUE=DURATION:PT1H
X-Robots-Tag:noindex
X-PUBLISHED-TTL:PT1H
BEGIN:VTIMEZONE
TZID:Europe/Rome
BEGIN:DAYLIGHT
TZOFFSETFROM:+0100
TZOFFSETTO:+0200
TZNAME:CEST
DTSTART:20220327T010000
END:DAYLIGHT
BEGIN:STANDARD
TZOFFSETFROM:+0200
TZOFFSETTO:+0100
TZNAME:CET
DTSTART:20221030T010000
END:STANDARD
BEGIN:DAYLIGHT
TZOFFSETFROM:+0100
TZOFFSETTO:+0200
TZNAME:CEST
DTSTART:20230326T010000
END:DAYLIGHT
BEGIN:STANDARD
TZOFFSETFROM:+0200
TZOFFSETTO:+0100
TZNAME:CET
DTSTART:20231029T010000
END:STANDARD
BEGIN:DAYLIGHT
TZOFFSETFROM:+0100
TZOFFSETTO:+0200
TZNAME:CEST
DTSTART:20240331T010000
END:DAYLIGHT
BEGIN:STANDARD
TZOFFSETFROM:+0200
TZOFFSETTO:+0100
TZNAME:CET
DTSTART:20241027T010000
END:STANDARD
END:VTIMEZONE
BEGIN:VEVENT
DTSTART;VALUE=DATE:20230211
DTEND;VALUE=DATE:20230212
DTSTAMP:20260426T063346
CREATED:20230219T165322Z
LAST-MODIFIED:20230219T165358Z
UID:1395-1676073600-1676159999@www.judosakura.it
SUMMARY:Piccolo Samurai 2023 - 4^ prova
DESCRIPTION:
URL:https://www.judosakura.it/event/piccolo-samurai-2022-4-prova/
LOCATION:Segrate\, Palazzetto dello sport - Via XXV Aprile\, Segrate
ATTACH;FMTTYPE=image/gif:https://www.judosakura.it/wp-content/uploads/judoclubsegrate-e1651077650547.gif
END:VEVENT
BEGIN:VEVENT
DTSTART;VALUE=DATE:20230212
DTEND;VALUE=DATE:20230213
DTSTAMP:20260426T063346
CREATED:20230219T170533Z
LAST-MODIFIED:20230219T170533Z
UID:1407-1676160000-1676246399@www.judosakura.it
SUMMARY:G.P. Veterani Lombardia - 1^ Prova Nazionale 2023
DESCRIPTION:
URL:https://www.judosakura.it/event/g-p-veterani-lombardia-1-prova-nazionale-2023/
LOCATION:Codogno (Lo)\, Palazzetto dello sport di Codogno\, Viale della resistenza
ATTACH;FMTTYPE=image/jpeg:https://www.judosakura.it/wp-content/uploads/2021/06/fijlkam_lombardia-e1676898174424.jpg
END:VEVENT
BEGIN:VEVENT
DTSTART;VALUE=DATE:20230212
DTEND;VALUE=DATE:20230213
DTSTAMP:20260426T063346
CREATED:20230219T173553Z
LAST-MODIFIED:20230219T174454Z
UID:1421-1676160000-1676246399@www.judosakura.it
SUMMARY:8° Trofeo Tadashi Koike
DESCRIPTION:EsoB + Cadetti
URL:https://www.judosakura.it/event/8-trofeo-tadashi-koike/
LOCATION:Bussero (Mi)\, Palazzetto dello Sport - Viale Europa 7
ATTACH;FMTTYPE=image/jpeg:https://www.judosakura.it/wp-content/uploads/csen-50x50-1.jpg
END:VEVENT
BEGIN:VEVENT
DTSTART;VALUE=DATE:20230219
DTEND;VALUE=DATE:20230220
DTSTAMP:20260426T063346
CREATED:20230219T172754Z
LAST-MODIFIED:20230219T172754Z
UID:1417-1676764800-1676851199@www.judosakura.it
SUMMARY:34° Torneo Internazionale Judo Vittorio Veneto
DESCRIPTION:
URL:https://www.judosakura.it/event/34-torneo-internazionale-judo-vittorio-veneto/
LOCATION:Conegliano (Tv)\, Zoppas Arena - Viale dello Sport 2
END:VEVENT
END:VCALENDAR