BEGIN:VCALENDAR
VERSION:2.0
PRODID:-//PALESTRA JUDO SAKURA - ECPv6.15.18//NONSGML v1.0//EN
CALSCALE:GREGORIAN
METHOD:PUBLISH
X-ORIGINAL-URL:https://www.judosakura.it
X-WR-CALDESC:Eventi per PALESTRA JUDO SAKURA
REFRESH-INTERVAL;VALUE=DURATION:PT1H
X-Robots-Tag:noindex
X-PUBLISHED-TTL:PT1H
BEGIN:VTIMEZONE
TZID:Europe/Rome
BEGIN:DAYLIGHT
TZOFFSETFROM:+0100
TZOFFSETTO:+0200
TZNAME:CEST
DTSTART:20200329T010000
END:DAYLIGHT
BEGIN:STANDARD
TZOFFSETFROM:+0200
TZOFFSETTO:+0100
TZNAME:CET
DTSTART:20201025T010000
END:STANDARD
BEGIN:DAYLIGHT
TZOFFSETFROM:+0100
TZOFFSETTO:+0200
TZNAME:CEST
DTSTART:20210328T010000
END:DAYLIGHT
BEGIN:STANDARD
TZOFFSETFROM:+0200
TZOFFSETTO:+0100
TZNAME:CET
DTSTART:20211031T010000
END:STANDARD
BEGIN:DAYLIGHT
TZOFFSETFROM:+0100
TZOFFSETTO:+0200
TZNAME:CEST
DTSTART:20220327T010000
END:DAYLIGHT
BEGIN:STANDARD
TZOFFSETFROM:+0200
TZOFFSETTO:+0100
TZNAME:CET
DTSTART:20221030T010000
END:STANDARD
BEGIN:DAYLIGHT
TZOFFSETFROM:+0100
TZOFFSETTO:+0200
TZNAME:CEST
DTSTART:20230326T010000
END:DAYLIGHT
BEGIN:STANDARD
TZOFFSETFROM:+0200
TZOFFSETTO:+0100
TZNAME:CET
DTSTART:20231029T010000
END:STANDARD
BEGIN:DAYLIGHT
TZOFFSETFROM:+0100
TZOFFSETTO:+0200
TZNAME:CEST
DTSTART:20240331T010000
END:DAYLIGHT
BEGIN:STANDARD
TZOFFSETFROM:+0200
TZOFFSETTO:+0100
TZNAME:CET
DTSTART:20241027T010000
END:STANDARD
END:VTIMEZONE
BEGIN:VEVENT
DTSTART;TZID=Europe/Rome:20230429T123000
DTEND;TZID=Europe/Rome:20230430T140000
DTSTAMP:20260421T103342
CREATED:20230220T125259Z
LAST-MODIFIED:20230220T125426Z
UID:1461-1682771400-1682863200@www.judosakura.it
SUMMARY:Gran Premio 1-2-3° Dan
DESCRIPTION:
URL:https://www.judosakura.it/event/gran-premio-1-2-3-dan/
LOCATION:Montichiari (BS)\, Palageorge - Via G. Falcone 24\, Montichiari (BS)
ATTACH;FMTTYPE=image/jpeg:https://www.judosakura.it/wp-content/uploads/2021/06/fijlkam_lombardia-e1676898174424.jpg
END:VEVENT
BEGIN:VEVENT
DTSTART;VALUE=DATE:20230423
DTEND;VALUE=DATE:20230424
DTSTAMP:20260421T103342
CREATED:20230220T124841Z
LAST-MODIFIED:20230322T132534Z
UID:1459-1682208000-1682294399@www.judosakura.it
SUMMARY:Finali Campionati Italiani Cadetti A1
DESCRIPTION:  \n 
URL:https://www.judosakura.it/event/finali-campionati-italiani-cadetti-a1/
LOCATION:PalaPellicone\, Via dei Sandolini\, 79\, Lido di Ostia (RM)
ATTACH;FMTTYPE=image/jpeg:https://www.judosakura.it/wp-content/uploads/2021/06/logo_fijlkam1-e1640802448642.jpeg
END:VEVENT
BEGIN:VEVENT
DTSTART;VALUE=DATE:20230422
DTEND;VALUE=DATE:20230423
DTSTAMP:20260421T103342
CREATED:20230219T165913Z
LAST-MODIFIED:20230219T165913Z
UID:1402-1682121600-1682207999@www.judosakura.it
SUMMARY:Piccolo Samurai 2023 - 7^ prova
DESCRIPTION:
URL:https://www.judosakura.it/event/piccolo-samurai-2023-7-prova/
LOCATION:Segrate\, Palazzetto dello sport - Via XXV Aprile\, Segrate
ATTACH;FMTTYPE=image/gif:https://www.judosakura.it/wp-content/uploads/judoclubsegrate-e1651077650547.gif
END:VEVENT
BEGIN:VEVENT
DTSTART;VALUE=DATE:20230325
DTEND;VALUE=DATE:20230326
DTSTAMP:20260421T103342
CREATED:20230219T165754Z
LAST-MODIFIED:20230219T165754Z
UID:1400-1679702400-1679788799@www.judosakura.it
SUMMARY:Piccolo Samurai 2023 - 6^ prova
DESCRIPTION:
URL:https://www.judosakura.it/event/piccolo-samurai-2023-6-prova/
LOCATION:Segrate\, Palazzetto dello sport - Via XXV Aprile\, Segrate
ATTACH;FMTTYPE=image/gif:https://www.judosakura.it/wp-content/uploads/judoclubsegrate-e1651077650547.gif
END:VEVENT
BEGIN:VEVENT
DTSTART;TZID=Europe/Rome:20230318T120000
DTEND;TZID=Europe/Rome:20230319T170000
DTSTAMP:20260421T103342
CREATED:20230219T171646Z
LAST-MODIFIED:20230322T132626Z
UID:1414-1679140800-1679245200@www.judosakura.it
SUMMARY:Finali Campionato Italiano A2
DESCRIPTION:Anastasia : 2^ classificata
URL:https://www.judosakura.it/event/finali-campionato-italiano-a2/
LOCATION:Taranto\, Palamazzola - Via Cesare Battisti
ATTACH;FMTTYPE=image/jpeg:https://www.judosakura.it/wp-content/uploads/2021/06/logo_fijlkam1-e1640802448642.jpeg
END:VEVENT
BEGIN:VEVENT
DTSTART;VALUE=DATE:20230311
DTEND;VALUE=DATE:20230312
DTSTAMP:20260421T103342
CREATED:20230219T165631Z
LAST-MODIFIED:20230219T165631Z
UID:1398-1678492800-1678579199@www.judosakura.it
SUMMARY:Piccolo Samurai 2023 - 5^ prova
DESCRIPTION:
URL:https://www.judosakura.it/event/piccolo-samurai-2023-5-prova/
LOCATION:Segrate\, Palazzetto dello sport - Via XXV Aprile\, Segrate
ATTACH;FMTTYPE=image/gif:https://www.judosakura.it/wp-content/uploads/judoclubsegrate-e1651077650547.gif
END:VEVENT
BEGIN:VEVENT
DTSTART;VALUE=DATE:20230305
DTEND;VALUE=DATE:20230306
DTSTAMP:20260421T103342
CREATED:20230219T170913Z
LAST-MODIFIED:20230322T132338Z
UID:1410-1677974400-1678060799@www.judosakura.it
SUMMARY:Qualificazioni Campionati Italiani Cadetti A2
DESCRIPTION:  \n 
URL:https://www.judosakura.it/event/qualifichazioni-campionati-italiani-cadetti-a2/
LOCATION:Codogno (Lo)\, Palazzetto dello sport di Codogno\, Viale della resistenza
ATTACH;FMTTYPE=image/jpeg:https://www.judosakura.it/wp-content/uploads/2021/06/fijlkam_lombardia-e1676898174424.jpg
END:VEVENT
BEGIN:VEVENT
DTSTART;VALUE=DATE:20230219
DTEND;VALUE=DATE:20230220
DTSTAMP:20260421T103342
CREATED:20230219T172754Z
LAST-MODIFIED:20230219T172754Z
UID:1417-1676764800-1676851199@www.judosakura.it
SUMMARY:34° Torneo Internazionale Judo Vittorio Veneto
DESCRIPTION:
URL:https://www.judosakura.it/event/34-torneo-internazionale-judo-vittorio-veneto/
LOCATION:Conegliano (Tv)\, Zoppas Arena - Viale dello Sport 2
END:VEVENT
BEGIN:VEVENT
DTSTART;VALUE=DATE:20230212
DTEND;VALUE=DATE:20230213
DTSTAMP:20260421T103342
CREATED:20230219T173553Z
LAST-MODIFIED:20230219T174454Z
UID:1421-1676160000-1676246399@www.judosakura.it
SUMMARY:8° Trofeo Tadashi Koike
DESCRIPTION:EsoB + Cadetti
URL:https://www.judosakura.it/event/8-trofeo-tadashi-koike/
LOCATION:Bussero (Mi)\, Palazzetto dello Sport - Viale Europa 7
ATTACH;FMTTYPE=image/jpeg:https://www.judosakura.it/wp-content/uploads/csen-50x50-1.jpg
END:VEVENT
BEGIN:VEVENT
DTSTART;VALUE=DATE:20230212
DTEND;VALUE=DATE:20230213
DTSTAMP:20260421T103342
CREATED:20230219T170533Z
LAST-MODIFIED:20230219T170533Z
UID:1407-1676160000-1676246399@www.judosakura.it
SUMMARY:G.P. Veterani Lombardia - 1^ Prova Nazionale 2023
DESCRIPTION:
URL:https://www.judosakura.it/event/g-p-veterani-lombardia-1-prova-nazionale-2023/
LOCATION:Codogno (Lo)\, Palazzetto dello sport di Codogno\, Viale della resistenza
ATTACH;FMTTYPE=image/jpeg:https://www.judosakura.it/wp-content/uploads/2021/06/fijlkam_lombardia-e1676898174424.jpg
END:VEVENT
BEGIN:VEVENT
DTSTART;VALUE=DATE:20230211
DTEND;VALUE=DATE:20230212
DTSTAMP:20260421T103342
CREATED:20230219T165322Z
LAST-MODIFIED:20230219T165358Z
UID:1395-1676073600-1676159999@www.judosakura.it
SUMMARY:Piccolo Samurai 2023 - 4^ prova
DESCRIPTION:
URL:https://www.judosakura.it/event/piccolo-samurai-2022-4-prova/
LOCATION:Segrate\, Palazzetto dello sport - Via XXV Aprile\, Segrate
ATTACH;FMTTYPE=image/gif:https://www.judosakura.it/wp-content/uploads/judoclubsegrate-e1651077650547.gif
END:VEVENT
BEGIN:VEVENT
DTSTART;VALUE=DATE:20230128
DTEND;VALUE=DATE:20230129
DTSTAMP:20260421T103342
CREATED:20230219T180344Z
LAST-MODIFIED:20230219T180344Z
UID:1438-1674864000-1674950399@www.judosakura.it
SUMMARY:28° Alpe Adria Judo Trophy
DESCRIPTION:
URL:https://www.judosakura.it/event/28-alpe-adria-judo-trophy/
LOCATION:Lignano Sabbiadoro (UD)\, Bella Italia & Efa Village - Viale Centrale 29
ATTACH;FMTTYPE=image/png:https://www.judosakura.it/wp-content/uploads/yama-arashi.png
END:VEVENT
BEGIN:VEVENT
DTSTART;VALUE=DATE:20221221
DTEND;VALUE=DATE:20221222
DTSTAMP:20260421T103342
CREATED:20230219T181348Z
LAST-MODIFIED:20230219T181825Z
UID:1444-1671580800-1671667199@www.judosakura.it
SUMMARY:Cena sociale di Natale
DESCRIPTION:
URL:https://www.judosakura.it/event/cena-sociale-di-natale-2/
LOCATION:Ristorante Tesoro\, Via Buozzi 184\, Sesto San Giovanni\, Italia
ATTACH;FMTTYPE=image/jpeg:https://www.judosakura.it/wp-content/uploads/Logo-colori-palestra-sakura-100X100-e1676830549370.jpg
END:VEVENT
BEGIN:VEVENT
DTSTART;VALUE=DATE:20221217
DTEND;VALUE=DATE:20221218
DTSTAMP:20260421T103342
CREATED:20230219T165122Z
LAST-MODIFIED:20230219T165122Z
UID:1393-1671235200-1671321599@www.judosakura.it
SUMMARY:Piccolo Samurai 2023 - 2^ prova
DESCRIPTION:
URL:https://www.judosakura.it/event/piccolo-samurai-2023-2-prova/
LOCATION:Segrate\, Palazzetto dello sport - Via XXV Aprile\, Segrate
ATTACH;FMTTYPE=image/gif:https://www.judosakura.it/wp-content/uploads/judoclubsegrate-e1651077650547.gif
END:VEVENT
BEGIN:VEVENT
DTSTART;VALUE=DATE:20221204
DTEND;VALUE=DATE:20221205
DTSTAMP:20260421T103342
CREATED:20230219T175315Z
LAST-MODIFIED:20230219T175315Z
UID:1431-1670112000-1670198399@www.judosakura.it
SUMMARY:G.P. FISPIC di judo - c/o Campionato Italiano CSEN
DESCRIPTION:
URL:https://www.judosakura.it/event/g-p-fispic-di-judo-c-o-campionato-italiano-csen/
LOCATION:Follonica (Gr)\, Palagolfo - Via Raffaello Sanzio
ATTACH;FMTTYPE=image/jpeg:https://www.judosakura.it/wp-content/uploads/Fispic.jpg
END:VEVENT
BEGIN:VEVENT
DTSTART;VALUE=DATE:20221126
DTEND;VALUE=DATE:20221127
DTSTAMP:20260421T103342
CREATED:20230219T164926Z
LAST-MODIFIED:20230219T164926Z
UID:1391-1669420800-1669507199@www.judosakura.it
SUMMARY:Piccolo Samurai 2023 - 1^ prova
DESCRIPTION:
URL:https://www.judosakura.it/event/piccolo-samurai-2023-1-prova/
LOCATION:Segrate\, Palazzetto dello sport - Via XXV Aprile\, Segrate
ATTACH;FMTTYPE=image/gif:https://www.judosakura.it/wp-content/uploads/judoclubsegrate-e1651077650547.gif
END:VEVENT
BEGIN:VEVENT
DTSTART;VALUE=DATE:20221112
DTEND;VALUE=DATE:20221113
DTSTAMP:20260421T103342
CREATED:20230219T180943Z
LAST-MODIFIED:20230219T180943Z
UID:1441-1668211200-1668297599@www.judosakura.it
SUMMARY:G.P. Lucania 2022
DESCRIPTION:
URL:https://www.judosakura.it/event/g-p-lucania-2022/
LOCATION:Policoro (Mt)\, PalaErcole - Via Salvo d'Acquisto 20
ATTACH;FMTTYPE=image/jpeg:https://www.judosakura.it/wp-content/uploads/2021/06/logo_fijlkam1-e1640802448642.jpeg
END:VEVENT
BEGIN:VEVENT
DTSTART;VALUE=DATE:20220515
DTEND;VALUE=DATE:20220516
DTSTAMP:20260421T103342
CREATED:20211229T182405Z
LAST-MODIFIED:20211229T182504Z
UID:1277-1652572800-1652659199@www.judosakura.it
SUMMARY:Finali Campionati Italiani Juniores Femminili
DESCRIPTION:
URL:https://www.judosakura.it/event/finali-campionati-italiani-juniores-femminili/
LOCATION:PalaPellicone\, Via dei Sandolini\, 79\, Lido di Ostia (RM)
ATTACH;FMTTYPE=image/jpeg:https://www.judosakura.it/wp-content/uploads/2021/06/logo_fijlkam1-e1640802448642.jpeg
END:VEVENT
BEGIN:VEVENT
DTSTART;VALUE=DATE:20220501
DTEND;VALUE=DATE:20220502
DTSTAMP:20260421T103342
CREATED:20211229T181820Z
LAST-MODIFIED:20220427T160555Z
UID:1275-1651363200-1651449599@www.judosakura.it
SUMMARY:Qualificazioni Campionati Italiani Juniores
DESCRIPTION:
URL:https://www.judosakura.it/event/qualificazioni-campionati-italiani-juniores/
LOCATION:Besana Brianza (Mb)\, Palazzetto dello sport - Via De Gasperi
ATTACH;FMTTYPE=image/jpeg:https://www.judosakura.it/wp-content/uploads/2021/06/fijlkam_lombardia-e1676898174424.jpg
END:VEVENT
BEGIN:VEVENT
DTSTART;VALUE=DATE:20220430
DTEND;VALUE=DATE:20220501
DTSTAMP:20260421T103342
CREATED:20220427T155651Z
LAST-MODIFIED:20220427T164059Z
UID:1347-1651276800-1651363199@www.judosakura.it
SUMMARY:Piccolo Samurai 2022 - 2^ prova
DESCRIPTION:
URL:https://www.judosakura.it/event/piccolo-samurai-2022/
LOCATION:Segrate\, Palazzetto dello sport - Via XXV Aprile\, Segrate
ATTACH;FMTTYPE=image/gif:https://www.judosakura.it/wp-content/uploads/judoclubsegrate-e1651077650547.gif
END:VEVENT
BEGIN:VEVENT
DTSTART;VALUE=DATE:20220410
DTEND;VALUE=DATE:20220411
DTSTAMP:20260421T103342
CREATED:20211229T181608Z
LAST-MODIFIED:20220325T111920Z
UID:1273-1649548800-1649635199@www.judosakura.it
SUMMARY:Esami Passaggio di grado 1°-2°-3° Dan
DESCRIPTION:
URL:https://www.judosakura.it/event/esami-passaggio-di-grado-1-2-3-dan/
LOCATION:Montichiari (BS)\, Palageorge - Via G. Falcone 24\, Montichiari (BS)
ATTACH;FMTTYPE=image/jpeg:https://www.judosakura.it/wp-content/uploads/2021/06/fijlkam_lombardia-e1676898174424.jpg
END:VEVENT
BEGIN:VEVENT
DTSTART;VALUE=DATE:20220402
DTEND;VALUE=DATE:20220403
DTSTAMP:20260421T103342
CREATED:20220325T110903Z
LAST-MODIFIED:20220325T111149Z
UID:1339-1648857600-1648943999@www.judosakura.it
SUMMARY:32° Trofeo Genova Città di Colombo
DESCRIPTION:Grand Prix Cadetti
URL:https://www.judosakura.it/event/32-trofeo-genova-citta-di-colombo/
LOCATION:Genova – 105 Stadium\, Lungomare Canepa 155
END:VEVENT
BEGIN:VEVENT
DTSTART;VALUE=DATE:20220327
DTEND;VALUE=DATE:20220328
DTSTAMP:20260421T103342
CREATED:20220117T094554Z
LAST-MODIFIED:20220117T094817Z
UID:1325-1648339200-1648425599@www.judosakura.it
SUMMARY:Corso Passaggi di Grado
DESCRIPTION:
URL:https://www.judosakura.it/event/corso-passaggi-di-grado-3/
LOCATION:J.C. Segrate\, Via Manzoni 4\, Segrate (Mi)
ATTACH;FMTTYPE=image/jpeg:https://www.judosakura.it/wp-content/uploads/2021/06/fijlkam_lombardia-e1676898174424.jpg
END:VEVENT
BEGIN:VEVENT
DTSTART;VALUE=DATE:20220319
DTEND;VALUE=DATE:20220321
DTSTAMP:20260421T103342
CREATED:20220325T110228Z
LAST-MODIFIED:20220325T110228Z
UID:1334-1647648000-1647820799@www.judosakura.it
SUMMARY:26° Trofeo Alpe Adria
DESCRIPTION:Grand Prix Cadetti / Juniores
URL:https://www.judosakura.it/event/26-trofeo-alpe-adria/
LOCATION:Lignano Sabbiadoro (UD)\, Bella Italia & Efa Village - Viale Centrale 29
END:VEVENT
BEGIN:VEVENT
DTSTART;VALUE=DATE:20220313
DTEND;VALUE=DATE:20220314
DTSTAMP:20260421T103342
CREATED:20211229T173022Z
LAST-MODIFIED:20220120T100435Z
UID:1258-1647129600-1647215999@www.judosakura.it
SUMMARY:Corso Passaggi di Grado
DESCRIPTION:
URL:https://www.judosakura.it/event/corso-passaggi-di-grado/
LOCATION:DA DEFINIRE
ATTACH;FMTTYPE=image/jpeg:https://www.judosakura.it/wp-content/uploads/2021/06/fijlkam_lombardia-e1676898174424.jpg
END:VEVENT
BEGIN:VEVENT
DTSTART;VALUE=DATE:20220306
DTEND;VALUE=DATE:20220307
DTSTAMP:20260421T103342
CREATED:20211229T173944Z
LAST-MODIFIED:20211229T174251Z
UID:1266-1646524800-1646611199@www.judosakura.it
SUMMARY:Finali Campionati Italiani Cadetti Femminili
DESCRIPTION:
URL:https://www.judosakura.it/event/finali-campionati-italiani-cadetti-femminili/
LOCATION:PalaPellicone\, Via dei Sandolini\, 79\, Lido di Ostia (RM)
ATTACH;FMTTYPE=image/jpeg:https://www.judosakura.it/wp-content/uploads/2021/06/logo_fijlkam1-e1640802448642.jpeg
END:VEVENT
BEGIN:VEVENT
DTSTART;VALUE=DATE:20220220
DTEND;VALUE=DATE:20220221
DTSTAMP:20260421T103342
CREATED:20211229T173708Z
LAST-MODIFIED:20220120T100252Z
UID:1263-1645315200-1645401599@www.judosakura.it
SUMMARY:Qualificazioni Campionati Italiani Cadetti
DESCRIPTION:
URL:https://www.judosakura.it/event/qualificazioni-campionati-italiani-cadetti/
LOCATION:Cornaredo\, - Centro sportivo Sandro Pertini - via dello Sport 70\, Cornaredo (MI)
ATTACH;FMTTYPE=image/jpeg:https://www.judosakura.it/wp-content/uploads/2021/06/fijlkam_lombardia-e1676898174424.jpg
END:VEVENT
BEGIN:VEVENT
DTSTART;VALUE=DATE:20220213
DTEND;VALUE=DATE:20220214
DTSTAMP:20260421T103342
CREATED:20211229T173258Z
LAST-MODIFIED:20220117T093912Z
UID:1261-1644710400-1644796799@www.judosakura.it
SUMMARY:Corso Passaggi di Grado
DESCRIPTION:
URL:https://www.judosakura.it/event/corso-passaggi-di-grado-2/
LOCATION:Forza e Costanza\, Centro Sportivo San Filippo - Via Luigi Bazoli\, 10\, Brescia
ATTACH;FMTTYPE=image/jpeg:https://www.judosakura.it/wp-content/uploads/2021/06/fijlkam_lombardia-e1676898174424.jpg
END:VEVENT
BEGIN:VEVENT
DTSTART;VALUE=DATE:20220205
DTEND;VALUE=DATE:20220206
DTSTAMP:20260421T103342
CREATED:20211229T172549Z
LAST-MODIFIED:20220120T100051Z
UID:1253-1644019200-1644105599@www.judosakura.it
SUMMARY:Corso Passaggi di Grado
DESCRIPTION:
URL:https://www.judosakura.it/event/corso-passaggio-di-grado/
LOCATION:Capriate San Gervasio\, Capriate San Gervasio (BG)
ATTACH;FMTTYPE=image/jpeg:https://www.judosakura.it/wp-content/uploads/2021/06/fijlkam_lombardia-e1676898174424.jpg
END:VEVENT
BEGIN:VEVENT
DTSTART;VALUE=DATE:20211222
DTEND;VALUE=DATE:20211223
DTSTAMP:20260421T103342
CREATED:20211218T180058Z
LAST-MODIFIED:20211221T214109Z
UID:1240-1640131200-1640217599@www.judosakura.it
SUMMARY:Cena sociale di Natale
DESCRIPTION:
URL:https://www.judosakura.it/event/cena-sociale-di-natale/
LOCATION:Ristorante Tesoro\, Via Buozzi 184\, Sesto San Giovanni\, Italia
ATTACH;FMTTYPE=image/jpeg:https://www.judosakura.it/wp-content/uploads/Logo-colori-palestra-sakura-100X100-e1676830549370.jpg
END:VEVENT
END:VCALENDAR