BEGIN:VCALENDAR
VERSION:2.0
PRODID:-//PALESTRA JUDO SAKURA - ECPv6.15.18//NONSGML v1.0//EN
CALSCALE:GREGORIAN
METHOD:PUBLISH
X-WR-CALNAME:PALESTRA JUDO SAKURA
X-ORIGINAL-URL:https://www.judosakura.it
X-WR-CALDESC:Eventi per PALESTRA JUDO SAKURA
REFRESH-INTERVAL;VALUE=DURATION:PT1H
X-Robots-Tag:noindex
X-PUBLISHED-TTL:PT1H
BEGIN:VTIMEZONE
TZID:Europe/Paris
BEGIN:DAYLIGHT
TZOFFSETFROM:+0100
TZOFFSETTO:+0200
TZNAME:CEST
DTSTART:20200329T010000
END:DAYLIGHT
BEGIN:STANDARD
TZOFFSETFROM:+0200
TZOFFSETTO:+0100
TZNAME:CET
DTSTART:20201025T010000
END:STANDARD
BEGIN:DAYLIGHT
TZOFFSETFROM:+0100
TZOFFSETTO:+0200
TZNAME:CEST
DTSTART:20210328T010000
END:DAYLIGHT
BEGIN:STANDARD
TZOFFSETFROM:+0200
TZOFFSETTO:+0100
TZNAME:CET
DTSTART:20211031T010000
END:STANDARD
BEGIN:DAYLIGHT
TZOFFSETFROM:+0100
TZOFFSETTO:+0200
TZNAME:CEST
DTSTART:20220327T010000
END:DAYLIGHT
BEGIN:STANDARD
TZOFFSETFROM:+0200
TZOFFSETTO:+0100
TZNAME:CET
DTSTART:20221030T010000
END:STANDARD
END:VTIMEZONE
BEGIN:VEVENT
DTSTART;VALUE=DATE:20210625
DTEND;VALUE=DATE:20210626
DTSTAMP:20260421T155745
CREATED:20210620T180040Z
LAST-MODIFIED:20210621T080239Z
UID:310-1624579200-1624665599@www.judosakura.it
SUMMARY:FINE ALLENAMENTI BAMBINI RAGAZZI E ADULTI
DESCRIPTION:
URL:https://www.judosakura.it/event/fine-allenamenti-allaperto-bambini-e-ragazzi/
LOCATION:Ristorante Tesoro\, Via Buozzi 184\, Sesto San Giovanni\, Italia
CATEGORIES:Calendario attività
ATTACH;FMTTYPE=image/gif:https://www.judosakura.it/wp-content/uploads/2021/06/logo.gif
END:VEVENT
BEGIN:VEVENT
DTSTART;VALUE=DATE:20210522
DTEND;VALUE=DATE:20210523
DTSTAMP:20260421T155745
CREATED:20210620T135253Z
LAST-MODIFIED:20210620T180602Z
UID:299-1621641600-1621727999@www.judosakura.it
SUMMARY:Assemblea ordinaria elettiva CRL FIJLKAM – Quadriennio 2020-2024
DESCRIPTION:
URL:https://www.judosakura.it/event/assemblea-ordinaria-elettiva-crl-fijlkam-quadriennio-2020-2024/
LOCATION:Cavenago Brianza\, Italia
CATEGORIES:Attività svolta
ATTACH;FMTTYPE=image/png:https://www.judosakura.it/wp-content/uploads/2021/06/Schermata-2021-06-20-alle-18.59.02.png
END:VEVENT
END:VCALENDAR